BEGIN:VCALENDAR
VERSION:2.0
PRODID:-//The Foundation For Water Research - ECPv6.15.20//NONSGML v1.0//EN
CALSCALE:GREGORIAN
METHOD:PUBLISH
X-WR-CALNAME:The Foundation For Water Research
X-ORIGINAL-URL:https://fwr.org
X-WR-CALDESC:Events for The Foundation For Water Research
REFRESH-INTERVAL;VALUE=DURATION:PT1H
X-Robots-Tag:noindex
X-PUBLISHED-TTL:PT1H
BEGIN:VTIMEZONE
TZID:Europe/London
BEGIN:DAYLIGHT
TZOFFSETFROM:+0000
TZOFFSETTO:+0100
TZNAME:BST
DTSTART:20240331T010000
END:DAYLIGHT
BEGIN:STANDARD
TZOFFSETFROM:+0100
TZOFFSETTO:+0000
TZNAME:GMT
DTSTART:20241027T010000
END:STANDARD
BEGIN:DAYLIGHT
TZOFFSETFROM:+0000
TZOFFSETTO:+0100
TZNAME:BST
DTSTART:20250330T010000
END:DAYLIGHT
BEGIN:STANDARD
TZOFFSETFROM:+0100
TZOFFSETTO:+0000
TZNAME:GMT
DTSTART:20251026T010000
END:STANDARD
BEGIN:DAYLIGHT
TZOFFSETFROM:+0000
TZOFFSETTO:+0100
TZNAME:BST
DTSTART:20260329T010000
END:DAYLIGHT
BEGIN:STANDARD
TZOFFSETFROM:+0100
TZOFFSETTO:+0000
TZNAME:GMT
DTSTART:20261025T010000
END:STANDARD
END:VTIMEZONE
BEGIN:VEVENT
DTSTART;TZID=Europe/London:20250708T123000
DTEND;TZID=Europe/London:20250708T131500
DTSTAMP:20260419T133626
CREATED:20250610T120529Z
LAST-MODIFIED:20250610T120529Z
UID:10000030-1751977800-1751980500@fwr.org
SUMMARY:FWR webinar - Working with farmers for river restoration
DESCRIPTION:Farmers and land managers have a huge influence on Britain’s rural environment\, but there is only so much that an individual\, acting in isolation\, can achieve on their own. By working together\, aided by an advisor or ‘facilitator’\, farmers and land managers can work more cohesively together in their locality. This enables them to collectively deliver greater benefits for soil\, water and wildlife at a landscape scale. \nOur speaker\, Teresa Dent\, has been working with farmer groups to improve wildlife and environmental outcomes since 2013\, when she helped set up the first Farmer Cluster. She will discuss her experiences of working with voluntary farmer groups\, how they approach river restoration\, and what scope there is to make farmer groups a key part of river restoration. \nOur speaker\nTeresa Dent CBE\, Previously CEO\, Game & Wildlife Conservation Trust (GWCT) \nOriginally a farming consultant with Strutt & Parker\, Teresa was CEO of GWCT 2001-2025 and still works for GWCT as a coordinator for area-based conservation projects like the Environmental Farmer Groups (EFG) & Farmer Clusters. Teresa was made a CBE for services to wildlife conservation in 2015; is a Fellow of RASE; was board member of NE (2014-2020); chaired the Marlborough Downs Nature Improvement Area; is a director of various farmer groups; a founder member of Curlew Recovery Partnership; and an honorary member of National Gamekeepers Association & Grasshoppers Farmer Group.
URL:https://fwr.org/event/fwr-webinar-working-with-farmers-for-river-restoration/
LOCATION:Online Event
CATEGORIES:FWR Webinar
ATTACH;FMTTYPE=image/jpeg:https://fwr.org/wp-content/uploads/2025/06/river-960268_1280.jpg
END:VEVENT
END:VCALENDAR