BEGIN:VCALENDAR
VERSION:2.0
PRODID:-//The Foundation For Water Research - ECPv6.15.20//NONSGML v1.0//EN
CALSCALE:GREGORIAN
METHOD:PUBLISH
X-WR-CALNAME:The Foundation For Water Research
X-ORIGINAL-URL:https://fwr.org
X-WR-CALDESC:Events for The Foundation For Water Research
REFRESH-INTERVAL;VALUE=DURATION:PT1H
X-Robots-Tag:noindex
X-PUBLISHED-TTL:PT1H
BEGIN:VTIMEZONE
TZID:Europe/London
BEGIN:DAYLIGHT
TZOFFSETFROM:+0000
TZOFFSETTO:+0100
TZNAME:BST
DTSTART:20230326T010000
END:DAYLIGHT
BEGIN:STANDARD
TZOFFSETFROM:+0100
TZOFFSETTO:+0000
TZNAME:GMT
DTSTART:20231029T010000
END:STANDARD
BEGIN:DAYLIGHT
TZOFFSETFROM:+0000
TZOFFSETTO:+0100
TZNAME:BST
DTSTART:20240331T010000
END:DAYLIGHT
BEGIN:STANDARD
TZOFFSETFROM:+0100
TZOFFSETTO:+0000
TZNAME:GMT
DTSTART:20241027T010000
END:STANDARD
BEGIN:DAYLIGHT
TZOFFSETFROM:+0000
TZOFFSETTO:+0100
TZNAME:BST
DTSTART:20250330T010000
END:DAYLIGHT
BEGIN:STANDARD
TZOFFSETFROM:+0100
TZOFFSETTO:+0000
TZNAME:GMT
DTSTART:20251026T010000
END:STANDARD
END:VTIMEZONE
BEGIN:VEVENT
DTSTART;TZID=Europe/London:20240619T123000
DTEND;TZID=Europe/London:20240619T140000
DTSTAMP:20260426T040328
CREATED:20240610T130950Z
LAST-MODIFIED:20241024T150339Z
UID:10000003-1718800200-1718805600@fwr.org
SUMMARY:Water: priorities for the next UK Government
DESCRIPTION:Water systems are fundamental for people\, the economy\, and the planet. In recent years\, water in the UK has had an increasing public profile as issues around water quality and water management have gained significant media attention. Water remains a critical system which environmental policy must address to support the transformation towards a sustainable society. \n\n\n\n  \n\n\n\nThe recently announced UK General Election will provide a new opportunity to revisit key environmental policy discussions where intervention is required for the benefit of society\, the economy\, and the environment. After the election\, there will be a short yet crucial window of opportunity to engage with policy makers to solve environmental challenges and co-create a sustainable society where people and nature thrive. \n\n\n\nThis free online discussion event\, hosted by the Foundation for Water Research (FWR)\, will consider the key issues that the next UK Government should prioritise around water systems. This event will give IES members and the wider sector a chance to feed in to the IES’s policy work after the current UK General Election. This is a non-political discussion and will not be a platform for engaging with or influencing voters. Attendees will be advised to avoid anything that could be interpreted as support for a political party or candidate. \n\n\n\n  \n\n\n\n\n\nEngaging with policy makersThis is one of seven events helping IES members to engage with issues arising from the UK General Election and providing the opportunity to influence policy makers during the early days of the next parliamentary term. For more information\, see the announcement and our events on land condition\, education\, climate change\, policy implementation\, clean air\, and tackling the triple crisis. \n\n\n\n  \n\n\n\nPriorities identified by IES members during these discussions will directly facilitate IES engagement with the next UK Government\, though they will not be used to engage with political manifestos\, or with specific parties\, candidates\, or constituencies.
URL:https://fwr.org/event/water-priorities-for-the-next-uk-government/
CATEGORIES:FWR Training
END:VEVENT
END:VCALENDAR