BEGIN:VCALENDAR
VERSION:2.0
PRODID:-//The Foundation For Water Research - ECPv6.15.20//NONSGML v1.0//EN
CALSCALE:GREGORIAN
METHOD:PUBLISH
X-WR-CALNAME:The Foundation For Water Research
X-ORIGINAL-URL:https://fwr.org
X-WR-CALDESC:Events for The Foundation For Water Research
REFRESH-INTERVAL;VALUE=DURATION:PT1H
X-Robots-Tag:noindex
X-PUBLISHED-TTL:PT1H
BEGIN:VTIMEZONE
TZID:Europe/London
BEGIN:DAYLIGHT
TZOFFSETFROM:+0000
TZOFFSETTO:+0100
TZNAME:BST
DTSTART:20240331T010000
END:DAYLIGHT
BEGIN:STANDARD
TZOFFSETFROM:+0100
TZOFFSETTO:+0000
TZNAME:GMT
DTSTART:20241027T010000
END:STANDARD
BEGIN:DAYLIGHT
TZOFFSETFROM:+0000
TZOFFSETTO:+0100
TZNAME:BST
DTSTART:20250330T010000
END:DAYLIGHT
BEGIN:STANDARD
TZOFFSETFROM:+0100
TZOFFSETTO:+0000
TZNAME:GMT
DTSTART:20251026T010000
END:STANDARD
BEGIN:DAYLIGHT
TZOFFSETFROM:+0000
TZOFFSETTO:+0100
TZNAME:BST
DTSTART:20260329T010000
END:DAYLIGHT
BEGIN:STANDARD
TZOFFSETFROM:+0100
TZOFFSETTO:+0000
TZNAME:GMT
DTSTART:20261025T010000
END:STANDARD
END:VTIMEZONE
BEGIN:VEVENT
DTSTART;TZID=Europe/London:20251001T170000
DTEND;TZID=Europe/London:20251001T190000
DTSTAMP:20260426T005132
CREATED:20250922T152648Z
LAST-MODIFIED:20250922T152648Z
UID:10000035-1759338000-1759345200@fwr.org
SUMMARY:Showcasing the multiple benefits of citizen science in catchment management and conservation
DESCRIPTION:This event is for all those CIWEM members and prospective members interested in finding out more about what is meant by the term ‘citizen science’’\, specifically for catchment management and conservation. There will be an exciting line up of speakers from the Zoological Society of London\, Water Rangers\, Thames21 and NatureMetrics covering topics on the role that citizen science is playing in conservation of the European Eel\, introducing and exploring some of the work being undertaken across London by the CaSTCo programme\, and looking at some of the tools that have been developed and being used to support citizen science activities. \nFollowing these presentations and talks\, the meeting will then conclude with two parallel sessions\, one focused on show and tell where delegates will be able to see first-hand some of the tools developed for citizen science\, with the second a Speakers Corner where delegates will be able to directly interact and discuss topics raised by presenters. \nCIWEM members and non-members are welcome to attend this interactive panel discussion. \nPart of the CIWEM Catchment Management series. \nHeader image credit: © KsDesign | Adobe Stock
URL:https://fwr.org/event/showcasing-the-multiple-benefits-of-citizen-science-in-catchment-management-and-conservation/
LOCATION:Stantec UK office\, The Stills\, 1st Floor\, 80 Turnmill Street\, London\, EC1M 5QU\, United Kingdom
CATEGORIES:External Conference
ATTACH;FMTTYPE=image/jpeg:https://fwr.org/wp-content/uploads/2025/09/Flock-of-seabirds-on-the-shore-©-KsDesign-via-Adobe-Stock-1.jpg
END:VEVENT
BEGIN:VEVENT
DTSTART;TZID=Europe/London:20250625T090000
DTEND;TZID=Europe/London:20250625T170000
DTSTAMP:20260426T005132
CREATED:20250224T173040Z
LAST-MODIFIED:20250224T173040Z
UID:10000028-1750842000-1750870800@fwr.org
SUMMARY:Freshwater Biological Association - Annual Scientific Meeting
DESCRIPTION:Freshwater Biological Association (FBA) is delighted to announce the 2025 Annual Scientific Meeting (ASM). They have a tremendous range of keynote speakers and presenters from a wide variety of backgrounds and stages in their careers. They are also able to offer financial support for early career members via the newly created Richard Chadd Bursary Fund. \nFull details of the ASM (including full agenda) and how to apply for bursary can be found on the FBA website. This coming together of 100 scientists and practitioners is an essential date in the freshwater ecologist’s year! \nHeader image credit: © Martin | Adobe Stock
URL:https://fwr.org/event/freshwater-biological-association-annual-scientific-meeting/
LOCATION:Nottingham Trent University
CATEGORIES:External Conference
ATTACH;FMTTYPE=image/jpeg:https://fwr.org/wp-content/uploads/2025/02/Pike-amongst-water-weeds-©-Martin-via-Adobe-Stock.jpg
END:VEVENT
END:VCALENDAR